BEGIN:VCALENDAR
VERSION:2.0
PRODID:-//Green Flash Brewing Co. - ECPv6.15.17.1//NONSGML v1.0//EN
CALSCALE:GREGORIAN
METHOD:PUBLISH
X-WR-CALNAME:Green Flash Brewing Co.
X-ORIGINAL-URL:https://greenflashbrew.com
X-WR-CALDESC:Events for Green Flash Brewing Co.
REFRESH-INTERVAL;VALUE=DURATION:PT1H
X-Robots-Tag:noindex
X-PUBLISHED-TTL:PT1H
BEGIN:VTIMEZONE
TZID:America/Los_Angeles
BEGIN:DAYLIGHT
TZOFFSETFROM:-0800
TZOFFSETTO:-0700
TZNAME:PDT
DTSTART:20160313T100000
END:DAYLIGHT
BEGIN:STANDARD
TZOFFSETFROM:-0700
TZOFFSETTO:-0800
TZNAME:PST
DTSTART:20161106T090000
END:STANDARD
BEGIN:DAYLIGHT
TZOFFSETFROM:-0800
TZOFFSETTO:-0700
TZNAME:PDT
DTSTART:20170312T100000
END:DAYLIGHT
BEGIN:STANDARD
TZOFFSETFROM:-0700
TZOFFSETTO:-0800
TZNAME:PST
DTSTART:20171105T090000
END:STANDARD
BEGIN:DAYLIGHT
TZOFFSETFROM:-0800
TZOFFSETTO:-0700
TZNAME:PDT
DTSTART:20180311T100000
END:DAYLIGHT
BEGIN:STANDARD
TZOFFSETFROM:-0700
TZOFFSETTO:-0800
TZNAME:PST
DTSTART:20181104T090000
END:STANDARD
BEGIN:DAYLIGHT
TZOFFSETFROM:-0800
TZOFFSETTO:-0700
TZNAME:PDT
DTSTART:20190310T100000
END:DAYLIGHT
BEGIN:STANDARD
TZOFFSETFROM:-0700
TZOFFSETTO:-0800
TZNAME:PST
DTSTART:20191103T090000
END:STANDARD
END:VTIMEZONE
BEGIN:VEVENT
DTSTART;TZID=America/Los_Angeles:20180930T120000
DTEND;TZID=America/Los_Angeles:20180930T170000
DTSTAMP:20260423T034542
CREATED:20180815T233106Z
LAST-MODIFIED:20180815T233515Z
UID:19491-1538308800-1538326800@greenflashbrew.com
SUMMARY:Green Flash 8th Annual Treasure Chest Beer + Food Fest
DESCRIPTION:Join us for our largest and most anticipated rare beer and food pairing event of the year! For the 8th year in a row\, Treasure Chest Fest will serve as a fundraiser for local breast cancer charity Susan G. Komen San Diego. \n Enjoy exclusive Green Flash\, and Alpine beers\, served alongside perfectly paired plates prepared by some of San Diego’s finest chefs. \n The festival will be held at Green Flash Brewing Co. in Mira Mesa and will take over the tasting room\, beer garden and parking lot. Our team is busy working on the finest rare beer and food pairings and return attendee can expect to see some new and exciting offerings! \n All tickets include unlimited beer tasting\, limited food tastings\, commemorative glass\, and a fun festival experience! More details will be provided leading up to the event. \nPurchase tickets here!  \n FAQs \n Am I able to bring my family? YES\, our brewery is a family friendly space and we’d like to extend that to the Treasure Chest Fest and welcome children under the age of 12 accompanied by parents. We are offering a food only and designated driver ticket in addition to the full festival ticket. We will also have food available for purchase. All ID’s will be checked upon arrival and only those over 21 years of age with a full tasting or food only ticket will receive a wristband in order to taste beer. Beer will not be served to anyone WITHOUT a wristband and a tasting card or token. \n We like to emphasize that parents are wholly responsible for the enjoyment and safety of their children throughout the event. \n Parking: \n Parking for the festival is in lots immediately surrounding Green Flash Brewery. We also have a large overflow parking lot located accross the street at the Philadelphia Hardware Building- look for the Green Flash Parking sign! \n We encourage carpooling with a designated driver or utilizing taxis or a ride sharing app such as Lyft or Uber. \n Can I bring my dog/s? Sorry\, NO DOGS allowed! As much as we love dogs we ask that you leave your four-legged friends at home for this event. They will not be allowed into the festival. \n What is the refund policy? No refunds. We will not be issuing refunds for this festival. 100% of the profit goes to raising money for Susan G. Komen San Diego. \n Do I need to print my ticket? Wherever possible please bring an electronic version of your ticket. We will scan your entry from your smartphone if you have one. \n Do I need to know the names of everyone I’m purchasing for? No\, you can enter your name for all of them\, just make sure they have a physical or electronic ticket when they arrive. \n Are you looking for Vendors: Yes! If you’re interested in being a vendor at this years festival please see all the details
URL:https://greenflashbrew.com/event/green-flash-8th-annual-treasure-chest-beer-food-fest/
CATEGORIES:Events at the Brewery,Green Flash San Diego Brewery Events,Treasure Chest
ATTACH;FMTTYPE=image/jpeg:/wp-content/uploads/2018/08/treasure-chest-website.jpg
END:VEVENT
BEGIN:VEVENT
DTSTART;TZID=America/Los_Angeles:20171106T160000
DTEND;TZID=America/Los_Angeles:20171106T190000
DTSTAMP:20260423T034542
CREATED:20171024T202041Z
LAST-MODIFIED:20171024T202041Z
UID:17941-1509984000-1509994800@greenflashbrew.com
SUMMARY:Treasure Chest @ Craft & Commerce
DESCRIPTION:Come raise quality and awareness as we celebrate Treasure Chest at Craft & Commerce. For every pint of Treasure Chest drank we will donate to the Prevent Cancer Foundation. There will be plenty of other great beers on and a fantastic happy hour as well.
URL:https://greenflashbrew.com/event/treasure-chest-craft-commerce/
LOCATION:Craft & Commerce\, 675 Beech St. \, San Diego\, CA\, United States
CATEGORIES:Treasure Chest
ATTACH;FMTTYPE=image/jpeg:/wp-content/uploads/2017/08/eventThumb_treasureChest2017.jpg
END:VEVENT
BEGIN:VEVENT
DTSTART;TZID=America/Los_Angeles:20171102T180000
DTEND;TZID=America/Los_Angeles:20171102T210000
DTSTAMP:20260423T034542
CREATED:20170906T035726Z
LAST-MODIFIED:20170906T035726Z
UID:17649-1509645600-1509656400@greenflashbrew.com
SUMMARY:Treasure Chest Event!
DESCRIPTION:Chos will featuring Green Flash’s annual breast cancer funraiser beer Treasure Chest IPA! Every pint ordered will donate a portion to youpreventcancer.org. Help us find a cure! schwag while supplies last!
URL:https://greenflashbrew.com/event/treasure-chest-event-3/
LOCATION:CHOS Charlottesville\,  946 Grady Ave\, Ste 16\,\, Charlottesville\, VA\, United States
CATEGORIES:Treasure Chest
ATTACH;FMTTYPE=image/jpeg:/wp-content/uploads/2017/08/eventThumb_treasureChest2017.jpg
END:VEVENT
BEGIN:VEVENT
DTSTART;TZID=America/Los_Angeles:20171031T162000
DTEND;TZID=America/Los_Angeles:20171031T162000
DTSTAMP:20260423T034542
CREATED:20170913T125405Z
LAST-MODIFIED:20170913T125405Z
UID:17675-1509466800-1509466800@greenflashbrew.com
SUMMARY:Treasure Chest at Peaks & Pints
DESCRIPTION:Dank IPA Treasure Chest Fund Raiser
URL:https://greenflashbrew.com/event/treasure-chest-at-peaks-pints/
LOCATION:Peaks & Pints\, 3816 N 26th Street\, Tacoma\, WA\, 98407\, United States
CATEGORIES:Treasure Chest
ATTACH;FMTTYPE=image/jpeg:/wp-content/uploads/2017/08/eventThumb_treasureChest2017.jpg
END:VEVENT
BEGIN:VEVENT
DTSTART;VALUE=DATE:20171028
DTEND;VALUE=DATE:20171029
DTSTAMP:20260423T034542
CREATED:20170906T201441Z
LAST-MODIFIED:20170906T201441Z
UID:17661-1509148800-1509235199@greenflashbrew.com
SUMMARY:Treasure Chest
DESCRIPTION:Treasure Chest tapping with a percentage of proceeds donated to Breast Cancer Research
URL:https://greenflashbrew.com/event/treasure-chest-38/
LOCATION:Wine Beer Fat\,  5350 W 25th Ave\, Edgewater\, CO\, United States
CATEGORIES:Treasure Chest
ATTACH;FMTTYPE=image/jpeg:/wp-content/uploads/2017/08/eventThumb_treasureChest2017.jpg
END:VEVENT
BEGIN:VEVENT
DTSTART;TZID=America/Los_Angeles:20171027T180000
DTEND;TZID=America/Los_Angeles:20171027T220000
DTSTAMP:20260423T034542
CREATED:20171024T200526Z
LAST-MODIFIED:20171024T200526Z
UID:17926-1509127200-1509141600@greenflashbrew.com
SUMMARY:Treasure Chest with Hops on The Harbor
DESCRIPTION:Come celebrate Treasure Chest with Hops on The Harbor cruising around the San Diego Bay. Raise awareness for breast cancer while enjoy a wonderful beer pairing and amazing views.
URL:https://greenflashbrew.com/event/treasure-chest-with-hops-on-the-harbor/
LOCATION:Flagship Cruises\,  990 North Harbor Drive\, San Diego\, CA\, 92101\, United States
CATEGORIES:Treasure Chest
ATTACH;FMTTYPE=image/jpeg:/wp-content/uploads/2017/08/eventThumb_treasureChest2017.jpg
END:VEVENT
BEGIN:VEVENT
DTSTART;TZID=America/Los_Angeles:20171026T170000
DTEND;TZID=America/Los_Angeles:20171026T170000
DTSTAMP:20260423T034542
CREATED:20171024T201224Z
LAST-MODIFIED:20171024T201224Z
UID:17935-1509037200-1509037200@greenflashbrew.com
SUMMARY:Treasure Chest at Sidecar
DESCRIPTION:Come drink for a cause! Each pint of Treasure Chest purchased helps raise breast cancer awareness. Tee Shirts\, sunglasses\, tattoos and great beer will be flying around Sidecar.
URL:https://greenflashbrew.com/event/treasure-chest-at-sidecar/
LOCATION:SideCar Bar\, 1310 Morena Blvd. \, San Diego \, CA\, 92110\, United States
CATEGORIES:Treasure Chest
ATTACH;FMTTYPE=image/jpeg:/wp-content/uploads/2017/08/eventThumb_treasureChest2017.jpg
END:VEVENT
BEGIN:VEVENT
DTSTART;TZID=America/Los_Angeles:20171021T120000
DTEND;TZID=America/Los_Angeles:20171021T225900
DTSTAMP:20260423T034542
CREATED:20170920T145706Z
LAST-MODIFIED:20170920T145706Z
UID:17771-1508587200-1508626740@greenflashbrew.com
SUMMARY:Beer Thirty / Green Flash Brewing Treasure Chest Tap Takeover!
DESCRIPTION:Raise a Glass With Us! \nWe’ll be donating $2 per full size pour of: Green Flash Treasure Chest IPA\, West Coast DIPA\, Sea to Sea Lager\, GFB Blonde & Cellar 3 Natura Morta w/ Blood Orange. Treasure Chest pint glasses will be available for a $5 minimum donation. All proceeds will be donated to the Susan G. Koeman foundation. \n#TreasureChest2017
URL:https://greenflashbrew.com/event/beer-thirty-green-flash-brewing-treasure-chest-tap-takeover/
LOCATION:Beer Thirty Bottle Shop & Pour House\, 2504 S Main St\, Soquel\, CA\, 95073\, United States
CATEGORIES:Treasure Chest
ATTACH;FMTTYPE=image/jpeg:/wp-content/uploads/2017/08/eventThumb_treasureChest2017.jpg
END:VEVENT
BEGIN:VEVENT
DTSTART;TZID=America/Los_Angeles:20171020T180000
DTEND;TZID=America/Los_Angeles:20171020T220000
DTSTAMP:20260423T034542
CREATED:20171024T200609Z
LAST-MODIFIED:20171024T200609Z
UID:17928-1508522400-1508536800@greenflashbrew.com
SUMMARY:Treasure Chest with Hops on The Harbor
DESCRIPTION:Come celebrate Treasure Chest with Hops on The Harbor cruising around the San Diego Bay. Raise awareness for breast cancer while enjoy a wonderful beer pairing and amazing views.
URL:https://greenflashbrew.com/event/treasure-chest-with-hops-on-the-harbor-2/
LOCATION:Flagship Cruises\,  990 North Harbor Drive\, San Diego\, CA\, 92101\, United States
CATEGORIES:Treasure Chest
ATTACH;FMTTYPE=image/jpeg:/wp-content/uploads/2017/08/eventThumb_treasureChest2017.jpg
END:VEVENT
BEGIN:VEVENT
DTSTART;TZID=America/Los_Angeles:20171020T170000
DTEND;TZID=America/Los_Angeles:20171020T200000
DTSTAMP:20260423T034542
CREATED:20170913T195428Z
LAST-MODIFIED:20170913T195428Z
UID:17719-1508518800-1508529600@greenflashbrew.com
SUMMARY:Treasure Chest Tapping
DESCRIPTION:Treasure Chest Tapping
URL:https://greenflashbrew.com/event/treasure-chest-tapping-11/
LOCATION:Lu & Carl’s\, 100 W Main St\, Brighton\, MI\, United States
CATEGORIES:Treasure Chest
ATTACH;FMTTYPE=image/jpeg:/wp-content/uploads/2017/08/eventThumb_treasureChest2017.jpg
END:VEVENT
BEGIN:VEVENT
DTSTART;TZID=America/Los_Angeles:20171020T170000
DTEND;TZID=America/Los_Angeles:20171020T200000
DTSTAMP:20260423T034542
CREATED:20170913T194928Z
LAST-MODIFIED:20170913T194928Z
UID:17717-1508518800-1508529600@greenflashbrew.com
SUMMARY:Treasure Chest Tapping
DESCRIPTION:Treasure Chest Tapping
URL:https://greenflashbrew.com/event/treasure-chest-tapping-10/
LOCATION:Lu & Carl’s\, 100 W Main St\, Brighton\, MI\, United States
CATEGORIES:Treasure Chest
ATTACH;FMTTYPE=image/jpeg:/wp-content/uploads/2017/08/eventThumb_treasureChest2017.jpg
END:VEVENT
BEGIN:VEVENT
DTSTART;TZID=America/Los_Angeles:20171020T170000
DTEND;TZID=America/Los_Angeles:20171020T200000
DTSTAMP:20260423T034542
CREATED:20170817T155358Z
LAST-MODIFIED:20170823T213007Z
UID:17437-1508518800-1508529600@greenflashbrew.com
SUMMARY:Treasure Chest at Lu & Carl's
DESCRIPTION:Treasure Chest 2017 keeps rolling in Michigan – this time with Lu & Carl’s where we’ll be tapping our limited release Treasure Chest beer. The 2017 batch of Treasure Chest is a slightly hazy IPA brewed with Warrior\, Green Bullet\, Citra\, Cascade & Simcoe hops\, then finished by infusing it with some Passion Fruit Tea. Treasure Chest has been a tradition at Green Flash since 2011 when our co-founder Lisa Hinkley started it all. Lisa\, herself a breast cancer survivor\, wanted to give back to the lifesaving prevention & research organizations that are leading the fight in ending breast cancer. We donate proceeds of sales from this beer back to leading cancer research organizations each year.
URL:https://greenflashbrew.com/event/treasure-chest-at-lu-carls/
LOCATION:Lu & Carl’s\, 100 W Main St\, Brighton\, MI\, United States
CATEGORIES:Treasure Chest
ATTACH;FMTTYPE=image/jpeg:/wp-content/uploads/2017/08/eventThumb_treasureChest2017.jpg
END:VEVENT
BEGIN:VEVENT
DTSTART;TZID=America/Los_Angeles:20171018T170000
DTEND;TZID=America/Los_Angeles:20171018T200000
DTSTAMP:20260423T034542
CREATED:20170913T131556Z
LAST-MODIFIED:20170913T131556Z
UID:17695-1508346000-1508356800@greenflashbrew.com
SUMMARY:Treasure Chest Tapping
DESCRIPTION:Treasure Chest Tapping
URL:https://greenflashbrew.com/event/treasure-chest-tapping-6/
LOCATION:Beer Grotto\, 303 S Ashley St\, Ann Arbor\, MI\, United States
CATEGORIES:Treasure Chest
ATTACH;FMTTYPE=image/jpeg:/wp-content/uploads/2017/08/eventThumb_treasureChest2017.jpg
END:VEVENT
BEGIN:VEVENT
DTSTART;TZID=America/Los_Angeles:20171018T050000
DTEND;TZID=America/Los_Angeles:20171018T210000
DTSTAMP:20260423T034542
CREATED:20170817T154912Z
LAST-MODIFIED:20170823T212929Z
UID:17429-1508302800-1508360400@greenflashbrew.com
SUMMARY:Treasure Chest at Beer Grotto
DESCRIPTION:Green Flash & Beer Grotto in Ann Arbor are teaming up to tap one of the limited release Treasure Chest beers from the brewers at Green Flash. The 2017 batch of Treasure Chest is a slighty hazy IPA brewed with Warrior\, Green Bullet\, Citra\, Cascade & Simcoe hops then infused with Passion Fruit tea. Each year\, the beer is different\, but the cause is the same – contributing in the fight against breast cancer. Originally conceived by our co-founder Lisa Hinkley\, herself a breast cancer survivor\, she leads us in carrying the tradition ever since.
URL:https://greenflashbrew.com/event/treasure-chest-at-beer-grotto/
LOCATION:Beer Grotto\, 303 S Ashley St\, Ann Arbor\, MI\, United States
CATEGORIES:Treasure Chest
ATTACH;FMTTYPE=image/jpeg:/wp-content/uploads/2017/08/eventThumb_treasureChest2017.jpg
END:VEVENT
BEGIN:VEVENT
DTSTART;TZID=America/Los_Angeles:20171013T190000
DTEND;TZID=America/Los_Angeles:20171013T210000
DTSTAMP:20260423T034542
CREATED:20170906T020159Z
LAST-MODIFIED:20170906T020159Z
UID:17583-1507921200-1507928400@greenflashbrew.com
SUMMARY:Food Truck\, Movies and Treasure Chest!!
DESCRIPTION:Join us 10/13 for a movie and beer as raise some money for breast cancer. We will tap this years Treasure Chest\, a 6.6% IPA w/ passion fruit. We will have some custom Treasure Chest swag to hand out as well as some additional beers on draft!! \nShowtime is @ 7pm.
URL:https://greenflashbrew.com/event/food-truck-movies-and-treasure-chest/
LOCATION:Casa Video\, 2905 E.Speedway Blvd\, Tucson\, AZ\, United States
CATEGORIES:Treasure Chest
ATTACH;FMTTYPE=image/jpeg:/wp-content/uploads/2017/08/eventThumb_treasureChest2017.jpg
END:VEVENT
BEGIN:VEVENT
DTSTART;TZID=America/Los_Angeles:20171013T180000
DTEND;TZID=America/Los_Angeles:20171013T220000
DTSTAMP:20260423T034542
CREATED:20171024T200804Z
LAST-MODIFIED:20171024T200804Z
UID:17931-1507917600-1507932000@greenflashbrew.com
SUMMARY:Treasure Chest with Hops on The Harbor
DESCRIPTION:Come celebrate Treasure Chest with Hops on The Harbor cruising around the San Diego Bay. Raise awareness for breast cancer while enjoy a wonderful beer pairing and amazing views.
URL:https://greenflashbrew.com/event/treasure-chest-with-hops-on-the-harbor-3/
LOCATION:Flagship Cruises\,  990 North Harbor Drive\, San Diego\, CA\, 92101\, United States
CATEGORIES:Treasure Chest
ATTACH;FMTTYPE=image/jpeg:/wp-content/uploads/2017/08/eventThumb_treasureChest2017.jpg
END:VEVENT
BEGIN:VEVENT
DTSTART;TZID=America/Los_Angeles:20171013T170000
DTEND;TZID=America/Los_Angeles:20171013T210000
DTSTAMP:20260423T034542
CREATED:20170919T201641Z
LAST-MODIFIED:20170921T205745Z
UID:17757-1507914000-1507928400@greenflashbrew.com
SUMMARY:Treasure Chest Tapping
DESCRIPTION:Treasure Chest Tapping
URL:https://greenflashbrew.com/event/treasure-chest-tapping-13/
LOCATION:Yellow Brick Road\, 892 Oak St\, Columbus\, OH\, United States
CATEGORIES:Treasure Chest
ATTACH;FMTTYPE=image/jpeg:/wp-content/uploads/2017/08/eventThumb_treasureChest2017.jpg
END:VEVENT
BEGIN:VEVENT
DTSTART;TZID=America/Los_Angeles:20171013T170000
DTEND;TZID=America/Los_Angeles:20171013T210000
DTSTAMP:20260423T034542
CREATED:20170913T131426Z
LAST-MODIFIED:20170913T131426Z
UID:17693-1507914000-1507928400@greenflashbrew.com
SUMMARY:Treasure Chest Tapping
DESCRIPTION:Treasure Chest Tapping
URL:https://greenflashbrew.com/event/treasure-chest-tapping-5/
LOCATION:Session Room\, 3685 Jackson Rdd\, Ann Arbor\, MI\, United States
CATEGORIES:Treasure Chest
ATTACH;FMTTYPE=image/jpeg:/wp-content/uploads/2017/08/eventThumb_treasureChest2017.jpg
END:VEVENT
BEGIN:VEVENT
DTSTART;TZID=America/Los_Angeles:20171013T170000
DTEND;TZID=America/Los_Angeles:20171013T210000
DTSTAMP:20260423T034542
CREATED:20170817T154343Z
LAST-MODIFIED:20170823T212555Z
UID:17427-1507914000-1507928400@greenflashbrew.com
SUMMARY:Treasure Chest Tapping at Session Room
DESCRIPTION:Join Green Flash & Session room for another amazing event at one of our favorite places in Ann Arbor. We’ll be tapping our limited release Treasure Chest beer. The 2017 version of the beer is a slightly hazy IPA brewed with Warrior\, Green Bullet\, Citra\, Cascade & Simcoe hops then infused with Passion Fruit tea. The Treasure Chest program was conceived as a way for Green Flash to contribute in battling breast cancer. Our co-founder\, Lisa Hinkley\, herself a breast cancer survivor began the program in 2011 and has carried on that tradition ever since!
URL:https://greenflashbrew.com/event/treasure-chest-tapping-at-session-room/
LOCATION:Session Room\, 3685 Jackson Rdd\, Ann Arbor\, MI\, United States
CATEGORIES:Treasure Chest
ATTACH;FMTTYPE=image/jpeg:/wp-content/uploads/2017/08/eventThumb_treasureChest2017.jpg
END:VEVENT
BEGIN:VEVENT
DTSTART;TZID=America/Los_Angeles:20171012T183000
DTEND;TZID=America/Los_Angeles:20171012T203000
DTSTAMP:20260423T034542
CREATED:20170906T022511Z
LAST-MODIFIED:20170906T022511Z
UID:17595-1507833000-1507840200@greenflashbrew.com
SUMMARY:Barley's Angels' Beers for a Cure
DESCRIPTION:Join Barley’s Angels\, Jerry’s\, and Green Flash Brewing for an event to help raise money for breast cancer research for the Prevent Cancer Foundation. $1 from every pint of Treasure Chest purchased will be donated so join us in our commitment to find a cure!
URL:https://greenflashbrew.com/event/barleys-angels-beers-for-a-cure/
LOCATION:Jerry’s Sandwiches – Lincoln Square\, 4739 N. Lincoln Ave.\, Chicago\, IL\, United States
CATEGORIES:Treasure Chest
ATTACH;FMTTYPE=image/jpeg:/wp-content/uploads/2017/08/eventThumb_treasureChest2017.jpg
END:VEVENT
BEGIN:VEVENT
DTSTART;TZID=America/Los_Angeles:20171012T180000
DTEND;TZID=America/Los_Angeles:20171012T200000
DTSTAMP:20260423T034542
CREATED:20170906T014041Z
LAST-MODIFIED:20170906T014041Z
UID:17563-1507831200-1507838400@greenflashbrew.com
SUMMARY:Time to Raise a Glass of Treasure Chest!!
DESCRIPTION:Come on by 10/12 and help us raise our glasses and some money for breast cancer. Some GFB\, West Coast and of course Treasure Chest will be pouring on draft. We will have our custom glassware and other swag to throw out.  \nFun starts @ 6pm
URL:https://greenflashbrew.com/event/time-to-raise-a-glass-of-treasure-chest/
LOCATION:Angels Trumpet Alehouse\, 810 N. 2nd st\, Phoenix\, AZ\, United States
CATEGORIES:Treasure Chest
ATTACH;FMTTYPE=image/jpeg:/wp-content/uploads/2017/08/eventThumb_treasureChest2017.jpg
END:VEVENT
BEGIN:VEVENT
DTSTART;TZID=America/Los_Angeles:20171012T173000
DTEND;TZID=America/Los_Angeles:20171012T210000
DTSTAMP:20260423T034542
CREATED:20170919T190859Z
LAST-MODIFIED:20170919T193208Z
UID:17749-1507829400-1507842000@greenflashbrew.com
SUMMARY:Treasure Chest Night at The Regal Seagull
DESCRIPTION:Raise a Glass for Breast Cancer awareness. Keep the pint when you buy a GF Treasure Chest IPA
URL:https://greenflashbrew.com/event/treasure-chest-night-at-the-reagal-seagull/
LOCATION:The Regal Seagull\, 996 North Coast Highway 101\, Encinitas\, CA\, 92024\, United States
CATEGORIES:Treasure Chest
ATTACH;FMTTYPE=image/jpeg:/wp-content/uploads/2017/08/eventThumb_treasureChest2017.jpg
END:VEVENT
BEGIN:VEVENT
DTSTART;TZID=America/Los_Angeles:20171012T170000
DTEND;TZID=America/Los_Angeles:20171012T200000
DTSTAMP:20260423T034542
CREATED:20170919T194033Z
LAST-MODIFIED:20170919T194033Z
UID:17753-1507827600-1507838400@greenflashbrew.com
SUMMARY:Treasure Chest Tapping
DESCRIPTION:Treasure Chest Tapping
URL:https://greenflashbrew.com/event/treasure-chest-tapping-12/
LOCATION:Jets\, 506 N Main St\, Chelsea\, MI\, United States
CATEGORIES:Treasure Chest
ATTACH;FMTTYPE=image/jpeg:/wp-content/uploads/2017/08/eventThumb_treasureChest2017.jpg
END:VEVENT
BEGIN:VEVENT
DTSTART;TZID=America/Los_Angeles:20171011T183000
DTEND;TZID=America/Los_Angeles:20171011T210000
DTSTAMP:20260423T034542
CREATED:20170906T040005Z
LAST-MODIFIED:20170906T040005Z
UID:17653-1507746600-1507755600@greenflashbrew.com
SUMMARY:Treasure Chest & Trivia
DESCRIPTION:Station 2 will featuring Green Flash’s annual breast cancer fundraiser beer Treasure Chest IPA! Every pint ordered will donate a portion to youpreventcancer.org. Help us find a cure while getting down with some trivia! schwag while supplies last and prizes!
URL:https://greenflashbrew.com/event/treasure-chest-trivia/
LOCATION:Station 2\, 2016 E Main St\, Richmond\, VA\, United States
CATEGORIES:Treasure Chest
ATTACH;FMTTYPE=image/jpeg:/wp-content/uploads/2017/08/eventThumb_treasureChest2017.jpg
END:VEVENT
BEGIN:VEVENT
DTSTART;TZID=America/Los_Angeles:20171010T173000
DTEND;TZID=America/Los_Angeles:20171010T200000
DTSTAMP:20260423T034542
CREATED:20170919T190322Z
LAST-MODIFIED:20170919T190343Z
UID:17744-1507656600-1507665600@greenflashbrew.com
SUMMARY:Treasure Chest at Bier Garden of Encinitas
DESCRIPTION:Raise a Glass for Breast Cancer awareness
URL:https://greenflashbrew.com/event/treasure-chest-at-bier-garden-of-encinitas/
LOCATION:Bier Garden of Encinitas\, 641 S Coast Hwy 101\, San Diego\, CA\, United States
CATEGORIES:Treasure Chest
ATTACH;FMTTYPE=image/jpeg:/wp-content/uploads/2017/08/eventThumb_treasureChest2017.jpg
END:VEVENT
BEGIN:VEVENT
DTSTART;TZID=America/Los_Angeles:20171010T170000
DTEND;TZID=America/Los_Angeles:20171010T200000
DTSTAMP:20260423T034542
CREATED:20170913T131216Z
LAST-MODIFIED:20170913T131216Z
UID:17691-1507654800-1507665600@greenflashbrew.com
SUMMARY:Treasure Chest Tapping
DESCRIPTION:Treasure Chest Tapping
URL:https://greenflashbrew.com/event/treasure-chest-tapping-4/
LOCATION:Ashley’s Ann Arbor\, 338 S State Street\, Ann Arbor\, MI\, United States
CATEGORIES:Treasure Chest
ATTACH;FMTTYPE=image/jpeg:/wp-content/uploads/2017/08/eventThumb_treasureChest2017.jpg
END:VEVENT
BEGIN:VEVENT
DTSTART;TZID=America/Los_Angeles:20171010T170000
DTEND;TZID=America/Los_Angeles:20171010T200000
DTSTAMP:20260423T034542
CREATED:20170817T155110Z
LAST-MODIFIED:20170823T212428Z
UID:17433-1507654800-1507665600@greenflashbrew.com
SUMMARY:Treasure Chest at Ashley's
DESCRIPTION:Green Flash & Ashley’s\, Ann Arbor’s original spot for craft beer\, are teaming up to raise a glass to find a cure! We’re tapping our limited release Treasure Chest beer along with some other Green Flash specialties. Treasure Chest 2017 is a slightly hazy IPA brewed with Warrior\, Green Bullet\, Citra\, Cascade & Simcoe hops\, then infused with Passion Fruit tea. Our annual Treasure Chest beer release is a tradition dating back to 2011. Conceived by our co-founder Lisa Hinkley\, herself a breast cancer survivor\, we donate proceeds from sales of this beer to breast cancer research & prevention causes.
URL:https://greenflashbrew.com/event/treasure-chest-at-ashleys/
LOCATION:Ashley’s Ann Arbor\, 338 S State Street\, Ann Arbor\, MI\, United States
CATEGORIES:Treasure Chest
ATTACH;FMTTYPE=image/jpeg:/wp-content/uploads/2017/08/eventThumb_treasureChest2017.jpg
END:VEVENT
BEGIN:VEVENT
DTSTART;TZID=America/Los_Angeles:20171006T180000
DTEND;TZID=America/Los_Angeles:20171006T220000
DTSTAMP:20260423T034542
CREATED:20171024T200939Z
LAST-MODIFIED:20171024T200939Z
UID:17933-1507312800-1507327200@greenflashbrew.com
SUMMARY:Treasure Chest with Hops on The Harbor
DESCRIPTION:Come celebrate Treasure Chest with Hops on The Harbor cruising around the San Diego Bay. Raise awareness for breast cancer while enjoy a wonderful beer pairing and amazing views.
URL:https://greenflashbrew.com/event/treasure-chest-with-hops-on-the-harbor-4/
LOCATION:Flagship Cruises\,  990 North Harbor Drive\, San Diego\, CA\, 92101\, United States
CATEGORIES:Treasure Chest
ATTACH;FMTTYPE=image/jpeg:/wp-content/uploads/2017/08/eventThumb_treasureChest2017.jpg
END:VEVENT
BEGIN:VEVENT
DTSTART;TZID=America/Los_Angeles:20171006T170000
DTEND;TZID=America/Los_Angeles:20171006T230000
DTSTAMP:20260423T034542
CREATED:20170817T153807Z
LAST-MODIFIED:20170906T013510Z
UID:17418-1507309200-1507330800@greenflashbrew.com
SUMMARY:Treasure Chest at World of Beer Woodhaven
DESCRIPTION:Join Green Flash & World of Beer Woodhaven as we tap the 2017 Treasure Chest beer release. Brewed with Warrior\, Green Bullet\, Citra\, Cascade & Simcoe hops\, this slightly hazy IPA is then infused with Passion Fruit Tea. Treasure Chest was started in 2011 by Green Flash co-founder Lisa Hinkley\, herself a breast cancer survivor. Each year since\, we produce a different one-off beer release & donate proceeds to cancer prevention & research organizations.
URL:https://greenflashbrew.com/event/treasure-chest-at-world-of-beer-woodhaven/
LOCATION:World of Beer Woodhaven\, 20970 West Rd\, Woodhaven\, MI\, United States
CATEGORIES:Treasure Chest
ATTACH;FMTTYPE=image/jpeg:/wp-content/uploads/2017/08/eventThumb_treasureChest2017.jpg
END:VEVENT
BEGIN:VEVENT
DTSTART;TZID=America/Los_Angeles:20171006T170000
DTEND;TZID=America/Los_Angeles:20171006T200000
DTSTAMP:20260423T034542
CREATED:20170913T131102Z
LAST-MODIFIED:20170913T131102Z
UID:17689-1507309200-1507320000@greenflashbrew.com
SUMMARY:Treasure Chest Tapping
DESCRIPTION:Treasure Chest Tapping
URL:https://greenflashbrew.com/event/treasure-chest-tapping-3/
LOCATION:World of Beer Woodhaven\, 20970 West Rd\, Woodhaven\, MI\, United States
CATEGORIES:Treasure Chest
ATTACH;FMTTYPE=image/jpeg:/wp-content/uploads/2017/08/eventThumb_treasureChest2017.jpg
END:VEVENT
END:VCALENDAR